BEGIN:VCALENDAR
VERSION:2.0
PRODID:-//A la Mer | Lemmer, Zuid-friesland - ECPv5.3.0//NONSGML v1.0//EN
CALSCALE:GREGORIAN
METHOD:PUBLISH
X-WR-CALNAME:A la Mer | Lemmer, Zuid-friesland
X-ORIGINAL-URL:https://alamer.nl
X-WR-CALDESC:Evenementen voor A la Mer | Lemmer, Zuid-friesland
BEGIN:VTIMEZONE
TZID:Europe/Paris
BEGIN:DAYLIGHT
TZOFFSETFROM:+0100
TZOFFSETTO:+0200
TZNAME:CEST
DTSTART:20160327T010000
END:DAYLIGHT
BEGIN:STANDARD
TZOFFSETFROM:+0200
TZOFFSETTO:+0100
TZNAME:CET
DTSTART:20161030T010000
END:STANDARD
END:VTIMEZONE
BEGIN:VEVENT
DTSTART;TZID=Europe/Paris:20160614T081500
DTEND;TZID=Europe/Paris:20160614T170000
DTSTAMP:20260421T095512
CREATED:20160531T074437Z
LAST-MODIFIED:20160531T074710Z
UID:958-1465892100-1465923600@alamer.nl
SUMMARY:Open Ontbijt 14 juni: Eerste Hulp bij Organisatie vraagstukken
DESCRIPTION:Het gezellige netwerkontbijt waar naast ontbijten en netwerken ook ruimte is voor een presentatie van een interessant onderwerp. Deze maand neemt Boudewijn Lemstra van Latitude Opleidingen ons mee in het systemisch werken. Voor aanmelden en meer info kijk op de website van openondernemen.nl \nEerste Hulp Bij Organisatievraagstukken\, systemisch werken met organisatieopstellingen. \nWe weten tegenwoordig ontzettend veel. En als we het niet weten\, is kennis met een paar klikken te achterhalen. Toch zijn er nog steeds vragen waar we geen antwoord op weten. Waar geboden ‘oplossingen’ niet werken. \nEen adequate\, snelle en diepgaande methode\, is het systemisch werk.  Hierin wordt het bedrijf  beschouwd als een systeem\, waarbij een aantal uitgangspunten gelden om het goed te laten functioneren. \nTijdens deze presentatie vertellen we niet alleen wat het is en wat je ermee kunt. We laten je ook ervaren hoe jij ‘systemisch’ staat ten opzichte van je ondernemerschap. Letterlijk en figuurlijk. \nLatitude opleidingen verzorgt opleidingen\, workshops\, coaching en advies o.b.v. systemisch werken: familie-\, organisatie-\, structuuropstellingen en systemische-NLP. Boudewijn Lemstra begon in 2003 met NLP en zo is aanraking gekomen met systemisch werken. Dat heeft hem gegrepen en nooit meer losgelaten. \nOrganisatieopstellingen zijn inmiddels ook zijn specialisatie. Met een bedrijfskundige achtergrond en ervaring in diverse (ICT\, relatiebeheer\, projectleiding en OR)-functies bij de rijksoverheid kan hij zich snel inleven in de organisatieproblematiek. Maar ook door het toepassen van structuuropstellingen in organisaties -concreet en grijpbaar- levert hij veel resultaat. \n‘Op een systemische manier kijken naar vraagstukken brengt je bij de kern en geeft snel helderheid. Voor een deel kun je dat heel snel zelf door op een andere manier te kijken. Soms zijn er meer specifieke instrumenten nodig\, zoals een opstelling’. \nDinsdag 14 juni kijken we naar de onderstroom die je niet kunt bedenken. Die niet voortkomt uit kennis of uit het weten. Het is ‘de onderstroom die niemand ziet\, die de richting bepaalt op elk gebied’. \nJe kunt je aanmelden door naar beneden te scrollen en een ticket te bestellen. Graat tot dinsdag de 14e! \nEerste Hulp Bij Organisatievraagstukken\, systemisch werken met organisatieopstellingen. \nWe weten tegenwoordig ontzettend veel. En als we het niet weten\, is kennis met een paar klikken te achterhalen. Toch zijn er nog steeds vragen waar we geen antwoord op weten. Waar geboden ‘oplossingen’ niet werken. \nEen adequate\, snelle en diepgaande methode\, is het systemisch werk.  Hierin wordt het bedrijf  beschouwd als een systeem\, waarbij een aantal uitgangspunten gelden om het goed te laten functioneren. \nTijdens deze presentatie vertellen we niet alleen wat het is en wat je ermee kunt. We laten je ook ervaren hoe jij ‘systemisch’ staat ten opzichte van je ondernemerschap. Letterlijk en figuurlijk. \nLatitude opleidingen verzorgt opleidingen\, workshops\, coaching en advies o.b.v. systemisch werken: familie-\, organisatie-\, structuuropstellingen en systemische-NLP. Boudewijn Lemstra begon in 2003 met NLP en zo is aanraking gekomen met systemisch werken. Dat heeft hem gegrepen en nooit meer losgelaten. \nOrganisatieopstellingen zijn inmiddels ook zijn specialisatie. Met een bedrijfskundige achtergrond en ervaring in diverse (ICT\, relatiebeheer\, projectleiding en OR)-functies bij de rijksoverheid kan hij zich snel inleven in de organisatieproblematiek. Maar ook door het toepassen van structuuropstellingen in organisaties -concreet en grijpbaar- levert hij veel resultaat. \n‘Op een systemische manier kijken naar vraagstukken brengt je bij de kern en geeft snel helderheid. Voor een deel kun je dat heel snel zelf door op een andere manier te kijken. Soms zijn er meer specifieke instrumenten nodig\, zoals een opstelling’. \nDinsdag 14 juni kijken we naar de onderstroom die je niet kunt bedenken. Die niet voortkomt uit kennis of uit het weten. Het is ‘de onderstroom die niemand ziet\, die de richting bepaalt op elk gebied’. \n 
URL:https://alamer.nl/agenda/open-ontbijt-14-juni/
ORGANIZER;CN="Open%20Ondernemen":MAILTO:info@alamer.nl
END:VEVENT
END:VCALENDAR