BEGIN:VCALENDAR
VERSION:2.0
PRODID:-//A la Mer | Lemmer, Zuid-friesland - ECPv5.3.0//NONSGML v1.0//EN
CALSCALE:GREGORIAN
METHOD:PUBLISH
X-WR-CALNAME:A la Mer | Lemmer, Zuid-friesland
X-ORIGINAL-URL:https://alamer.nl
X-WR-CALDESC:Evenementen voor A la Mer | Lemmer, Zuid-friesland
BEGIN:VTIMEZONE
TZID:Europe/Paris
BEGIN:DAYLIGHT
TZOFFSETFROM:+0100
TZOFFSETTO:+0200
TZNAME:CEST
DTSTART:20160327T010000
END:DAYLIGHT
BEGIN:STANDARD
TZOFFSETFROM:+0200
TZOFFSETTO:+0100
TZNAME:CET
DTSTART:20161030T010000
END:STANDARD
END:VTIMEZONE
BEGIN:VEVENT
DTSTART;TZID=Europe/Paris:20160308T080000
DTEND;TZID=Europe/Paris:20160308T100000
DTSTAMP:20260420T123119
CREATED:20150312T090006Z
LAST-MODIFIED:20150331T144031Z
UID:742-1457424000-1457431200@alamer.nl
SUMMARY:Open Ontbijt - het netwerkontbijt van Open Ondernemen
DESCRIPTION:Elke 2e dinsdagochtend van de maand vindt het netwerkontbijt van Open Ondernemen plaats. Tijdens een heerlijk ontbijt\, verzorgt door La Cantina\, wordt er een presentatie over een wisselend onderwerp gehouden. Een zeer informele manier om ondernemers uit de regio te leren kennen en met elkaar een interessant onderwerp te behandelen. Iedereen is van harte welkom van 8-10.oo uur.\nKosten: € 12\,50\nAanmelden: via website Open Ondernemen
URL:https://alamer.nl/agenda/open-ontbijt-het-netwerkontbijt-van-open-ondernemen-2016-03-08/
LOCATION:A la Mer\, Industrieweg 1\, Lemmer\, Friesland\, 8531 PA\, Nederland
CATEGORIES:Open Ontbijt
ATTACH;FMTTYPE=image/jpeg:https://alamer.nl/wp-content/uploads/header-open-ontbijt-maart.jpg
ORGANIZER;CN="Open%20Ondernemen":MAILTO:info@alamer.nl
END:VEVENT
END:VCALENDAR